BEGIN:VCALENDAR
VERSION:2.0
PRODID:-//Balance Dance Center - ECPv6.15.12.2//NONSGML v1.0//EN
CALSCALE:GREGORIAN
METHOD:PUBLISH
X-ORIGINAL-URL:https://balancedancecenter.com
X-WR-CALDESC:Events for Balance Dance Center
REFRESH-INTERVAL;VALUE=DURATION:PT1H
X-Robots-Tag:noindex
X-PUBLISHED-TTL:PT1H
BEGIN:VTIMEZONE
TZID:America/New_York
BEGIN:DAYLIGHT
TZOFFSETFROM:-0500
TZOFFSETTO:-0400
TZNAME:EDT
DTSTART:20240310T070000
END:DAYLIGHT
BEGIN:STANDARD
TZOFFSETFROM:-0400
TZOFFSETTO:-0500
TZNAME:EST
DTSTART:20241103T060000
END:STANDARD
BEGIN:DAYLIGHT
TZOFFSETFROM:-0500
TZOFFSETTO:-0400
TZNAME:EDT
DTSTART:20250309T070000
END:DAYLIGHT
BEGIN:STANDARD
TZOFFSETFROM:-0400
TZOFFSETTO:-0500
TZNAME:EST
DTSTART:20251102T060000
END:STANDARD
BEGIN:DAYLIGHT
TZOFFSETFROM:-0500
TZOFFSETTO:-0400
TZNAME:EDT
DTSTART:20260308T070000
END:DAYLIGHT
BEGIN:STANDARD
TZOFFSETFROM:-0400
TZOFFSETTO:-0500
TZNAME:EST
DTSTART:20261101T060000
END:STANDARD
END:VTIMEZONE
BEGIN:VEVENT
DTSTART;VALUE=DATE:20250415
DTEND;VALUE=DATE:20250421
DTSTAMP:20260424T170309
CREATED:20240813T184301Z
LAST-MODIFIED:20240813T184301Z
UID:10096-1744675200-1745193599@balancedancecenter.com
SUMMARY:Spring Break - 2025
DESCRIPTION:
URL:https://balancedancecenter.com/event/spring-break-2025/
CATEGORIES:Holiday Breaks
ATTACH;FMTTYPE=image/jpeg:https://balancedancecenter.com/wp-content/uploads/2019/12/BDC-Event-SpringBreak-2020.jpg
END:VEVENT
END:VCALENDAR